BEGIN:VCALENDAR
VERSION:2.0
PRODID:-//eventon.com NONSGML v1.0//EN
CALSCALE:GREGORIAN
METHOD:PUBLISH
BEGIN:VEVENT
UID:69eaa3a95ac88
DTSTAMP:20260423T225641Z
DTSTART:20240908T110000Z
DTEND:20240908T235900Z
LOCATION:Restaurant Maria Rosa Siebenbrunnenplatz 2\,  1050 Wien
SUMMARY:Kinderschnitzel-Aktion!
DESCRIPTION:Kinderwiener mit Pommes und Ketchup mit Eistee (Pfirsich oder Z
 itrone) um unschlagbaren €2\, 99!\nhttps://7brunnen.at/events/kinderschni
 tzel-aktion/
URL:https://7brunnen.at/events/kinderschnitzel-aktion/
END:VEVENT
END:VCALENDAR